BEGIN:VCALENDAR
VERSION:2.0
PRODID:-//Giles Academy - ECPv6.15.20//NONSGML v1.0//EN
CALSCALE:GREGORIAN
METHOD:PUBLISH
X-WR-CALNAME:Giles Academy
X-ORIGINAL-URL:https://www.gilesacademy.co.uk
X-WR-CALDESC:Events for Giles Academy
REFRESH-INTERVAL;VALUE=DURATION:PT1H
X-Robots-Tag:noindex
X-PUBLISHED-TTL:PT1H
BEGIN:VTIMEZONE
TZID:Europe/Paris
BEGIN:DAYLIGHT
TZOFFSETFROM:+0100
TZOFFSETTO:+0200
TZNAME:CEST
DTSTART:20230326T010000
END:DAYLIGHT
BEGIN:STANDARD
TZOFFSETFROM:+0200
TZOFFSETTO:+0100
TZNAME:CET
DTSTART:20231029T010000
END:STANDARD
BEGIN:DAYLIGHT
TZOFFSETFROM:+0100
TZOFFSETTO:+0200
TZNAME:CEST
DTSTART:20240331T010000
END:DAYLIGHT
BEGIN:STANDARD
TZOFFSETFROM:+0200
TZOFFSETTO:+0100
TZNAME:CET
DTSTART:20241027T010000
END:STANDARD
BEGIN:DAYLIGHT
TZOFFSETFROM:+0100
TZOFFSETTO:+0200
TZNAME:CEST
DTSTART:20250330T010000
END:DAYLIGHT
BEGIN:STANDARD
TZOFFSETFROM:+0200
TZOFFSETTO:+0100
TZNAME:CET
DTSTART:20251026T010000
END:STANDARD
BEGIN:DAYLIGHT
TZOFFSETFROM:+0100
TZOFFSETTO:+0200
TZNAME:CEST
DTSTART:20260329T010000
END:DAYLIGHT
BEGIN:STANDARD
TZOFFSETFROM:+0200
TZOFFSETTO:+0100
TZNAME:CET
DTSTART:20261025T010000
END:STANDARD
END:VTIMEZONE
BEGIN:VEVENT
DTSTART;VALUE=DATE:20250718
DTEND;VALUE=DATE:20250719
DTSTAMP:20260423T122752
CREATED:20250113T143657Z
LAST-MODIFIED:20250113T143657Z
UID:17008-1752796800-1752883199@www.gilesacademy.co.uk
SUMMARY:Term Ends
DESCRIPTION:
URL:https://www.gilesacademy.co.uk/event/term-ends-14/
CATEGORIES:Term Dates
END:VEVENT
BEGIN:VEVENT
DTSTART;VALUE=DATE:20250602
DTEND;VALUE=DATE:20250603
DTSTAMP:20260423T122752
CREATED:20250113T142319Z
LAST-MODIFIED:20250113T142319Z
UID:16994-1748822400-1748908799@www.gilesacademy.co.uk
SUMMARY:6th Term Starts
DESCRIPTION:
URL:https://www.gilesacademy.co.uk/event/6th-term-starts/
CATEGORIES:Term Dates
END:VEVENT
BEGIN:VEVENT
DTSTART;VALUE=DATE:20250523
DTEND;VALUE=DATE:20250524
DTSTAMP:20260423T122752
CREATED:20250113T141610Z
LAST-MODIFIED:20250113T141610Z
UID:16992-1747958400-1748044799@www.gilesacademy.co.uk
SUMMARY:Term Ends
DESCRIPTION:
URL:https://www.gilesacademy.co.uk/event/term-ends-13/
CATEGORIES:Term Dates
END:VEVENT
BEGIN:VEVENT
DTSTART;VALUE=DATE:20250423
DTEND;VALUE=DATE:20250424
DTSTAMP:20260423T122752
CREATED:20250113T141133Z
LAST-MODIFIED:20250113T141133Z
UID:16982-1745366400-1745452799@www.gilesacademy.co.uk
SUMMARY:5th Term Starts
DESCRIPTION:
URL:https://www.gilesacademy.co.uk/event/5th-term-starts/
CATEGORIES:Term Dates
END:VEVENT
BEGIN:VEVENT
DTSTART;VALUE=DATE:20250404
DTEND;VALUE=DATE:20250405
DTSTAMP:20260423T122752
CREATED:20250113T115934Z
LAST-MODIFIED:20250113T115934Z
UID:16979-1743724800-1743811199@www.gilesacademy.co.uk
SUMMARY:Term Ends
DESCRIPTION:
URL:https://www.gilesacademy.co.uk/event/term-ends-12/
CATEGORIES:Term Dates
END:VEVENT
BEGIN:VEVENT
DTSTART;VALUE=DATE:20250224
DTEND;VALUE=DATE:20250225
DTSTAMP:20260423T122752
CREATED:20250113T113356Z
LAST-MODIFIED:20250113T113356Z
UID:16953-1740355200-1740441599@www.gilesacademy.co.uk
SUMMARY:4th Term Starts
DESCRIPTION:
URL:https://www.gilesacademy.co.uk/event/4th-term-starts/
CATEGORIES:Term Dates
END:VEVENT
BEGIN:VEVENT
DTSTART;VALUE=DATE:20250214
DTEND;VALUE=DATE:20250215
DTSTAMP:20260423T122752
CREATED:20250113T112301Z
LAST-MODIFIED:20250113T112301Z
UID:16948-1739491200-1739577599@www.gilesacademy.co.uk
SUMMARY:Term Ends
DESCRIPTION:
URL:https://www.gilesacademy.co.uk/event/term-ends/
CATEGORIES:Term Dates
END:VEVENT
BEGIN:VEVENT
DTSTART;VALUE=DATE:20240719
DTEND;VALUE=DATE:20240720
DTSTAMP:20260423T122752
CREATED:20230725T132954Z
LAST-MODIFIED:20230725T132954Z
UID:12836-1721347200-1721433599@www.gilesacademy.co.uk
SUMMARY:Term Ends
DESCRIPTION:
URL:https://www.gilesacademy.co.uk/event/term-ends-11/
CATEGORIES:Term Dates
END:VEVENT
BEGIN:VEVENT
DTSTART;VALUE=DATE:20240603
DTEND;VALUE=DATE:20240604
DTSTAMP:20260423T122752
CREATED:20230725T132935Z
LAST-MODIFIED:20230725T132935Z
UID:12834-1717372800-1717459199@www.gilesacademy.co.uk
SUMMARY:Term 6 Begins
DESCRIPTION:
URL:https://www.gilesacademy.co.uk/event/term-6-begins/
CATEGORIES:Term Dates
END:VEVENT
BEGIN:VEVENT
DTSTART;VALUE=DATE:20240524
DTEND;VALUE=DATE:20240525
DTSTAMP:20260423T122752
CREATED:20230725T132909Z
LAST-MODIFIED:20230725T132909Z
UID:12832-1716508800-1716595199@www.gilesacademy.co.uk
SUMMARY:Term Ends
DESCRIPTION:
URL:https://www.gilesacademy.co.uk/event/term-ends-10/
CATEGORIES:Term Dates
END:VEVENT
END:VCALENDAR